BEGIN:VCALENDAR
VERSION:2.0
PRODID:-//Mülheim an der Mosel - ECPv6.15.11//NONSGML v1.0//EN
CALSCALE:GREGORIAN
METHOD:PUBLISH
X-WR-CALNAME:Mülheim an der Mosel
X-ORIGINAL-URL:https://www.muelheimmosel.de
X-WR-CALDESC:Veranstaltungen für Mülheim an der Mosel
REFRESH-INTERVAL;VALUE=DURATION:PT1H
X-Robots-Tag:noindex
X-PUBLISHED-TTL:PT1H
BEGIN:VTIMEZONE
TZID:Europe/Berlin
BEGIN:DAYLIGHT
TZOFFSETFROM:+0100
TZOFFSETTO:+0200
TZNAME:CEST
DTSTART:20250330T010000
END:DAYLIGHT
BEGIN:STANDARD
TZOFFSETFROM:+0200
TZOFFSETTO:+0100
TZNAME:CET
DTSTART:20251026T010000
END:STANDARD
BEGIN:DAYLIGHT
TZOFFSETFROM:+0100
TZOFFSETTO:+0200
TZNAME:CEST
DTSTART:20260329T010000
END:DAYLIGHT
BEGIN:STANDARD
TZOFFSETFROM:+0200
TZOFFSETTO:+0100
TZNAME:CET
DTSTART:20261025T010000
END:STANDARD
BEGIN:DAYLIGHT
TZOFFSETFROM:+0100
TZOFFSETTO:+0200
TZNAME:CEST
DTSTART:20270328T010000
END:DAYLIGHT
BEGIN:STANDARD
TZOFFSETFROM:+0200
TZOFFSETTO:+0100
TZNAME:CET
DTSTART:20271031T010000
END:STANDARD
END:VTIMEZONE
BEGIN:VEVENT
DTSTART;TZID=Europe/Berlin:20261024T193000
DTEND;TZID=Europe/Berlin:20261024T193000
DTSTAMP:20260422T172522
CREATED:20260128T084422Z
LAST-MODIFIED:20260128T084422Z
UID:10000155-1792870200-1792870200@www.muelheimmosel.de
SUMMARY:Kulturkreis Mülheim präsentiert...
DESCRIPTION:Marcel Adam Abschiedstour die Egoistenband \nMarcel Adam ist einer der bekanntesten Chansonniers\, Liedermacher\, Autoren\, Komponisten und Interpreten aus dem nordfranzösischen und süddeutschen Bereich. Geschichten\, die das Leben schreibt\, prägen seine Texte und Melodien\, füllen diese mit viel Humor und Gefühl und lassen keinen Zuhörer ungerührt. Über 30 Jahre Bühnenerfahrung\, auch im Bereich Kabarett und Comedy\, machen sein Programm zu einem unvergesslichen Erlebnis. Ob Solo\, im Duo oder im Trio mit „La fine équipe“\, der sympathische Mundartdichter\, Sänger\, Komponist und Entertainer ist ein Ohrenschmaus\, ein wahres Vergnügen\, ein Publikumsmagnet. \nEintritt: 25\,00
URL:https://www.muelheimmosel.de/veranstaltung/kulturkreis-muelheim-praesentiert-14/
LOCATION:Grafschafter Festhalle
ATTACH;FMTTYPE=image/jpeg:https://www.muelheimmosel.de/wp-content/uploads/marceladam.jpg
END:VEVENT
END:VCALENDAR