BEGIN:VCALENDAR
VERSION:2.0
PRODID:-//Mülheim an der Mosel - ECPv6.15.11//NONSGML v1.0//EN
CALSCALE:GREGORIAN
METHOD:PUBLISH
X-ORIGINAL-URL:https://www.muelheimmosel.de
X-WR-CALDESC:Veranstaltungen für Mülheim an der Mosel
REFRESH-INTERVAL;VALUE=DURATION:PT1H
X-Robots-Tag:noindex
X-PUBLISHED-TTL:PT1H
BEGIN:VTIMEZONE
TZID:Europe/Berlin
BEGIN:DAYLIGHT
TZOFFSETFROM:+0100
TZOFFSETTO:+0200
TZNAME:CEST
DTSTART:20250330T010000
END:DAYLIGHT
BEGIN:STANDARD
TZOFFSETFROM:+0200
TZOFFSETTO:+0100
TZNAME:CET
DTSTART:20251026T010000
END:STANDARD
BEGIN:DAYLIGHT
TZOFFSETFROM:+0100
TZOFFSETTO:+0200
TZNAME:CEST
DTSTART:20260329T010000
END:DAYLIGHT
BEGIN:STANDARD
TZOFFSETFROM:+0200
TZOFFSETTO:+0100
TZNAME:CET
DTSTART:20261025T010000
END:STANDARD
BEGIN:DAYLIGHT
TZOFFSETFROM:+0100
TZOFFSETTO:+0200
TZNAME:CEST
DTSTART:20270328T010000
END:DAYLIGHT
BEGIN:STANDARD
TZOFFSETFROM:+0200
TZOFFSETTO:+0100
TZNAME:CET
DTSTART:20271031T010000
END:STANDARD
END:VTIMEZONE
BEGIN:VEVENT
DTSTART;TZID=Europe/Berlin:20260301T100000
DTEND;TZID=Europe/Berlin:20260301T100000
DTSTAMP:20260422T084155
CREATED:20260128T104315Z
LAST-MODIFIED:20260128T104327Z
UID:10000163-1772359200-1772359200@www.muelheimmosel.de
SUMMARY:Evangelischer Gottesdienst
DESCRIPTION:10:00 Uhr Gottesdienst im Gemeindesaal Mülheim\, Hauptstr. 10Kindergottesdienst im Gemeindesaal Anmeldung für den KiGo bis 26.02.
URL:https://www.muelheimmosel.de/veranstaltung/evangelischer-gottesdienst-69/
LOCATION:Gemeindesaal Mülheim\, Hauptstr. 10\, Mülheim an der Mosel\, 54486\, Deutschland
ATTACH;FMTTYPE=image/jpeg:https://www.muelheimmosel.de/wp-content/uploads/kirche.jpg
END:VEVENT
BEGIN:VEVENT
DTSTART;TZID=Europe/Berlin:20260308T103000
DTEND;TZID=Europe/Berlin:20260308T103000
DTSTAMP:20260422T084155
CREATED:20260128T105048Z
LAST-MODIFIED:20260128T105215Z
UID:10000164-1772965800-1772965800@www.muelheimmosel.de
SUMMARY:Evangelischer Gottesdienst
DESCRIPTION:10:30 Uhr Gottesdienst für  jung & alt in der Ev. Kirche in Mülheim Thema: „Aufs Kreuz gelegt“ anschl. Kaffee\, Tee & Kuchen im Gemeindessaal          Kindergottesdienst mit Kinderfrühstück Anmeldung für den KiGo bis 05.03.
URL:https://www.muelheimmosel.de/veranstaltung/evangelischer-gottesdienst-70/
LOCATION:Evangelische Kirche Mülheim
ATTACH;FMTTYPE=image/jpeg:https://www.muelheimmosel.de/wp-content/uploads/kirche.jpg
END:VEVENT
BEGIN:VEVENT
DTSTART;TZID=Europe/Berlin:20260314T193000
DTEND;TZID=Europe/Berlin:20260314T193000
DTSTAMP:20260422T084155
CREATED:20260128T075758Z
LAST-MODIFIED:20260128T080313Z
UID:10000149-1773516600-1773516600@www.muelheimmosel.de
SUMMARY:Kulturkreis Mülheim präsentiert...
DESCRIPTION:Mirja Klippel „slow coming alive“ \nDie Künstlerin Mirja Klippel\, ist in Finnland geboren. Heute lebt sie in Dänemark. Mirja Klippel hat der alternativen Folkszene ihren ganz besonderen Stempel aufgedrückt\, indem sie die raue Schönheit der nordischen Landschaft mit einem Faden der Sehnsucht in ihre Musik webt. Ihre Musik ist von finnischem Folk\, Americana\, sphärischem Dream-Pop und Indie auf eine Weise inspiriert\, die sowohl schön als auch im romantischsten Sinne tragisch ist. Klippels Debüt „Lift your Lion“ (2016) präsentierte der Welt ihr Talent als Songwriterin\, Sängerin\, Multiinstrumentalistin und Produzentin\, während ihr zweites Album „Slow Coming Alive“ (2021) einen eher introspektiven Ansatz verfolgte\, indem sie sich mit den finnischen Gedichten ihrer Jugend auseinandersetzte und universelle Themen der sozialen Gerechtigkeit zu den Klängen intimer Kammermusik ansprach. Dafür erhielt sie drei Nominierungen für die Danish Music Awards Roots. Mirja Klippel wird von ihrem langjährigen musikalischen Weggefährten\, dem Gitarristen Alex Jønsson\, begleitet. Besetzung: Mirja Klippel: Gesang\, Gitarre & Waldzither Alex Jønsson: Gitarre\, Backing Vocals Pressestimmen: „Starker\, tiefer und ehrlicher Folk/Americana“ GAFFA (DÄNEMARK) ★★★★★ “ … ein Folk-Diamant für Filigran-Pop-Audiophile“ – Glitterhouse (DEUTSCHLAND) „Mirja Klippel hat ein besonderes Talent\, Songs zu schreiben\, die wie ein Stück ihrer Seele klingen.“ – To Go Berlin (DEUTSCHLAND) „Ich habe versucht\, einen Weg zu finden\, sie mit einer anderen Künstlerin zu vergleichen\, aber es ist mir einfach nicht gelungen. Es gab nur Mirja Klippel.“ – Postimees (ESTLAND) \nEintritt: € 15\,00 \n\n4
URL:https://www.muelheimmosel.de/veranstaltung/kulturkreis-muelheim-praesentiert-9/
LOCATION:Grafschafter Festhalle
ATTACH;FMTTYPE=image/png:https://www.muelheimmosel.de/wp-content/uploads/Mirja-Alex.png
END:VEVENT
BEGIN:VEVENT
DTSTART;TZID=Europe/Berlin:20260315T100000
DTEND;TZID=Europe/Berlin:20260315T100000
DTSTAMP:20260422T084155
CREATED:20260311T092629Z
LAST-MODIFIED:20260311T092629Z
UID:10000166-1773568800-1773568800@www.muelheimmosel.de
SUMMARY:Evangelischer Gottesdienst
DESCRIPTION:10:00 Uhr Gottesdienst in Mülheim im Gemeindesaal\, Hauptstr. 10 anschl. Kaffee\, Tee & Kuchen im Gemeindessaal\,  Kindergottesdienst mit Kinderfrühstück Anmeldung für den KiGo bis 12.03.
URL:https://www.muelheimmosel.de/veranstaltung/evangelischer-gottesdienst-71/
LOCATION:Gemeindesaal Mülheim\, Hauptstr. 10\, Mülheim an der Mosel\, 54486\, Deutschland
ATTACH;FMTTYPE=image/jpeg:https://www.muelheimmosel.de/wp-content/uploads/kirche.jpg
END:VEVENT
BEGIN:VEVENT
DTSTART;VALUE=DATE:20260321
DTEND;VALUE=DATE:20260322
DTSTAMP:20260422T084155
CREATED:20260127T075625Z
LAST-MODIFIED:20260127T075625Z
UID:10000146-1774051200-1774137599@www.muelheimmosel.de
SUMMARY:20. Internationaler Zeppelinlauf
DESCRIPTION:
URL:https://www.muelheimmosel.de/veranstaltung/20-internationaler-zeppelinlauf/
ATTACH;FMTTYPE=image/jpeg:https://www.muelheimmosel.de/wp-content/uploads/Zeppelinlauf-scaled.jpg
END:VEVENT
BEGIN:VEVENT
DTSTART;TZID=Europe/Berlin:20260322T100000
DTEND;TZID=Europe/Berlin:20260322T100000
DTSTAMP:20260422T084155
CREATED:20260311T092855Z
LAST-MODIFIED:20260311T092855Z
UID:10000167-1774173600-1774173600@www.muelheimmosel.de
SUMMARY:Evangelischer Gottesdienst
DESCRIPTION:10:00 Uhr Gottesdienst in der Ev. Kirche Mülheim mit Vorstellung der Konfirmanden
URL:https://www.muelheimmosel.de/veranstaltung/evangelischer-gottesdienst-72/
LOCATION:Evangelische Kirche Mülheim
ATTACH;FMTTYPE=image/jpeg:https://www.muelheimmosel.de/wp-content/uploads/kirche.jpg
END:VEVENT
BEGIN:VEVENT
DTSTART;TZID=Europe/Berlin:20260329T100000
DTEND;TZID=Europe/Berlin:20260329T100000
DTSTAMP:20260422T084155
CREATED:20260311T093031Z
LAST-MODIFIED:20260311T093031Z
UID:10000168-1774778400-1774778400@www.muelheimmosel.de
SUMMARY:Evangelischer Gottesdienst
DESCRIPTION:10:00 Uhr Gottesdienst in der Ev. Kirche Mülheim zur Konfirmation mit Hl. Abendmahl
URL:https://www.muelheimmosel.de/veranstaltung/evangelischer-gottesdienst-73/
LOCATION:Evangelische Kirche Mülheim
ATTACH;FMTTYPE=image/jpeg:https://www.muelheimmosel.de/wp-content/uploads/kirche.jpg
END:VEVENT
END:VCALENDAR