BEGIN:VCALENDAR
VERSION:2.0
PRODID:-//Mülheim an der Mosel - ECPv6.15.11//NONSGML v1.0//EN
CALSCALE:GREGORIAN
METHOD:PUBLISH
X-ORIGINAL-URL:https://www.muelheimmosel.de
X-WR-CALDESC:Veranstaltungen für Mülheim an der Mosel
REFRESH-INTERVAL;VALUE=DURATION:PT1H
X-Robots-Tag:noindex
X-PUBLISHED-TTL:PT1H
BEGIN:VTIMEZONE
TZID:Europe/Berlin
BEGIN:DAYLIGHT
TZOFFSETFROM:+0100
TZOFFSETTO:+0200
TZNAME:CEST
DTSTART:20240331T010000
END:DAYLIGHT
BEGIN:STANDARD
TZOFFSETFROM:+0200
TZOFFSETTO:+0100
TZNAME:CET
DTSTART:20241027T010000
END:STANDARD
BEGIN:DAYLIGHT
TZOFFSETFROM:+0100
TZOFFSETTO:+0200
TZNAME:CEST
DTSTART:20250330T010000
END:DAYLIGHT
BEGIN:STANDARD
TZOFFSETFROM:+0200
TZOFFSETTO:+0100
TZNAME:CET
DTSTART:20251026T010000
END:STANDARD
BEGIN:DAYLIGHT
TZOFFSETFROM:+0100
TZOFFSETTO:+0200
TZNAME:CEST
DTSTART:20260329T010000
END:DAYLIGHT
BEGIN:STANDARD
TZOFFSETFROM:+0200
TZOFFSETTO:+0100
TZNAME:CET
DTSTART:20261025T010000
END:STANDARD
END:VTIMEZONE
BEGIN:VEVENT
DTSTART;TZID=Europe/Berlin:20251106T114500
DTEND;TZID=Europe/Berlin:20251106T134500
DTSTAMP:20260422T174330
CREATED:20250113T085413Z
LAST-MODIFIED:20250113T085413Z
UID:10000083-1762429500-1762436700@www.muelheimmosel.de
SUMMARY:Generationenessen
DESCRIPTION:Menü: Schales mit Apfelmus \nAb 60 Jahren ist jeder herzlich Willkommen. \nWer kein Stammgast ist\, bitte bei Siggi Falke unter der Telefonnummer 06534-18232 anmelden!Zu jedem Essen gibt es einen Nachtisch & Kaffee. \nKostenbeitrag € 7\,50 \n  \n 
URL:https://www.muelheimmosel.de/veranstaltung/generationenessen-10/
LOCATION:Kleine Festhalle
ATTACH;FMTTYPE=image/jpeg:https://www.muelheimmosel.de/wp-content/uploads/Kaffeegedeck-Logo.jpg
END:VEVENT
BEGIN:VEVENT
DTSTART;TZID=Europe/Berlin:20251108T183000
DTEND;TZID=Europe/Berlin:20251108T183000
DTSTAMP:20260422T174330
CREATED:20251021T064027Z
LAST-MODIFIED:20251021T064441Z
UID:10000125-1762626600-1762626600@www.muelheimmosel.de
SUMMARY:St. Martinsumzug
DESCRIPTION:
URL:https://www.muelheimmosel.de/veranstaltung/st-martinsumzug-2/
ATTACH;FMTTYPE=image/jpeg:https://www.muelheimmosel.de/wp-content/uploads/Martinsumzug_000290-scaled.jpg
END:VEVENT
BEGIN:VEVENT
DTSTART;TZID=Europe/Berlin:20251109T103000
DTEND;TZID=Europe/Berlin:20251109T103000
DTSTAMP:20260422T174330
CREATED:20251105T071709Z
LAST-MODIFIED:20251105T073405Z
UID:10000127-1762684200-1762684200@www.muelheimmosel.de
SUMMARY:Evangelischer Gottesdienst
DESCRIPTION:10:30 Uhr Gottesdienst für  jung & alt in der Ev. Kirche in Mülheim                   Thema: \,\,Was du heute kannst besorgen…“\,anschl. Kaffee\, Tee & Kuchen im Gemeindesaal                  Kindergottesdienst mit Kinderfrühstück Anmeldung für den KiGo bis 06.11.
URL:https://www.muelheimmosel.de/veranstaltung/evangelischer-gottesdienst-64/
LOCATION:Evangelische Kirche Mülheim
ATTACH;FMTTYPE=image/jpeg:https://www.muelheimmosel.de/wp-content/uploads/Gottesdienst_000297-scaled.jpg
END:VEVENT
BEGIN:VEVENT
DTSTART;TZID=Europe/Berlin:20251116T100000
DTEND;TZID=Europe/Berlin:20251116T100000
DTSTAMP:20260422T174330
CREATED:20251104T091112Z
LAST-MODIFIED:20251105T071943Z
UID:10000126-1763287200-1763287200@www.muelheimmosel.de
SUMMARY:Volkstrauertag
DESCRIPTION:Einladung zum Gedenken am Volkstrauertag \nEine kleine Gedenkfeier zum Volkstrauertag findet am Sonntag\, den 16. November 2025 statt. Alle Bürgerinnen und Bürger sind herzlich eingeladen. Der VdK Ortsverband Mülheim und die Ortsgemeinde werden Kränze zum Gedenken an die gefallenen Soldaten und alle Opfer von Kriegen und Gewaltherrschaft niederlegen. Die Ansprache hält der 1. Beigeordnete Stefan Schmitt. Die Kranzniederlegung wird um 11.00 Uhr im Anschluss an den evangelischen Gottesdienst am Mahnmal neben der katholischen Kapelle in Mülheim stattfinden. \n  \n  \n			\n				\n				\n				\n				\n				09:00 Uhr Gottesdienst in Brauneberg im Ev. Kirchraum der Simultankirche \n10:00 Uhr Gottesdienst in der Ev. Kirche in Mülheim
URL:https://www.muelheimmosel.de/veranstaltung/volkstrauertag/
LOCATION:Evangelische Kirche Mülheim
ATTACH;FMTTYPE=image/jpeg:https://www.muelheimmosel.de/wp-content/uploads/kirche.jpg
END:VEVENT
BEGIN:VEVENT
DTSTART;TZID=Europe/Berlin:20251120T193000
DTEND;TZID=Europe/Berlin:20251120T193000
DTSTAMP:20260422T174330
CREATED:20251105T072247Z
LAST-MODIFIED:20251105T072247Z
UID:10000128-1763667000-1763667000@www.muelheimmosel.de
SUMMARY:Evangelischer Gottesdienst (Buß- und Bettag)
DESCRIPTION:19:30 Uhr Gottesdienst mit Hl Abendmahl in der Ev. Kirche in Mülheim                   es singt der Ök. Singkreis
URL:https://www.muelheimmosel.de/veranstaltung/evangelischer-gottesdienst-buss-und-bettag-2/
LOCATION:Evangelische Kirche Mülheim
ATTACH;FMTTYPE=image/jpeg:https://www.muelheimmosel.de/wp-content/uploads/kirche.jpg
END:VEVENT
BEGIN:VEVENT
DTSTART;TZID=Europe/Berlin:20251123T103000
DTEND;TZID=Europe/Berlin:20251123T103000
DTSTAMP:20260422T174330
CREATED:20251105T072500Z
LAST-MODIFIED:20251105T072500Z
UID:10000129-1763893800-1763893800@www.muelheimmosel.de
SUMMARY:Evangelischer Gottesdienst (Totensonntag)
DESCRIPTION:10:30 Uhr Gottesdienst mit Hl. Abendmahl in der Ev. Kirche in Mülheim 
URL:https://www.muelheimmosel.de/veranstaltung/evangelischer-gottesdienst-totensonntag-2/
LOCATION:Evangelische Kirche Mülheim
ATTACH;FMTTYPE=image/jpeg:https://www.muelheimmosel.de/wp-content/uploads/kirche.jpg
END:VEVENT
BEGIN:VEVENT
DTSTART;TZID=Europe/Berlin:20251130T140000
DTEND;TZID=Europe/Berlin:20251130T140000
DTSTAMP:20260422T174330
CREATED:20251105T072947Z
LAST-MODIFIED:20251105T072947Z
UID:10000130-1764511200-1764511200@www.muelheimmosel.de
SUMMARY:Evangelischer Gottesdienst (1. Advent)
DESCRIPTION:14:00 Uhr Familiengottesdienst in der Ev. Kirche in Mülheim                  mitgestaltet vom Ev. Kindergarten Arche Noah Mülheim \nab 15:00 Uhr \,\,Adventbeginnen“ mit Weihnachtsmarkt und Kinderprogramm                         rund um den Ev. Kindergarten Mülheim\, Im Flürchen 2 und im Gemeindesaal Hauptstr. 10
URL:https://www.muelheimmosel.de/veranstaltung/evangelischer-gottesdienst-1-advent-2/
LOCATION:Evangelische Kirche Mülheim
ATTACH;FMTTYPE=image/jpeg:https://www.muelheimmosel.de/wp-content/uploads/kirche.jpg
END:VEVENT
END:VCALENDAR