BEGIN:VCALENDAR
VERSION:2.0
PRODID:-//Mülheim an der Mosel - ECPv6.15.11//NONSGML v1.0//EN
CALSCALE:GREGORIAN
METHOD:PUBLISH
X-WR-CALNAME:Mülheim an der Mosel
X-ORIGINAL-URL:https://www.muelheimmosel.de
X-WR-CALDESC:Veranstaltungen für Mülheim an der Mosel
REFRESH-INTERVAL;VALUE=DURATION:PT1H
X-Robots-Tag:noindex
X-PUBLISHED-TTL:PT1H
BEGIN:VTIMEZONE
TZID:Europe/Berlin
BEGIN:DAYLIGHT
TZOFFSETFROM:+0100
TZOFFSETTO:+0200
TZNAME:CEST
DTSTART:20240331T010000
END:DAYLIGHT
BEGIN:STANDARD
TZOFFSETFROM:+0200
TZOFFSETTO:+0100
TZNAME:CET
DTSTART:20241027T010000
END:STANDARD
BEGIN:DAYLIGHT
TZOFFSETFROM:+0100
TZOFFSETTO:+0200
TZNAME:CEST
DTSTART:20250330T010000
END:DAYLIGHT
BEGIN:STANDARD
TZOFFSETFROM:+0200
TZOFFSETTO:+0100
TZNAME:CET
DTSTART:20251026T010000
END:STANDARD
BEGIN:DAYLIGHT
TZOFFSETFROM:+0100
TZOFFSETTO:+0200
TZNAME:CEST
DTSTART:20260329T010000
END:DAYLIGHT
BEGIN:STANDARD
TZOFFSETFROM:+0200
TZOFFSETTO:+0100
TZNAME:CET
DTSTART:20261025T010000
END:STANDARD
BEGIN:DAYLIGHT
TZOFFSETFROM:+0100
TZOFFSETTO:+0200
TZNAME:CEST
DTSTART:20270328T010000
END:DAYLIGHT
BEGIN:STANDARD
TZOFFSETFROM:+0200
TZOFFSETTO:+0100
TZNAME:CET
DTSTART:20271031T010000
END:STANDARD
END:VTIMEZONE
BEGIN:VEVENT
DTSTART;TZID=Europe/Berlin:20260412T103000
DTEND;TZID=Europe/Berlin:20260412T103000
DTSTAMP:20260422T064940
CREATED:20260311T095725Z
LAST-MODIFIED:20260311T095725Z
UID:10000174-1775989800-1775989800@www.muelheimmosel.de
SUMMARY:Evangelischer Gottesdienst
DESCRIPTION:10:30 Uhr Gottesdienst in Brauneberg im Ev. Kirchraum der Simultankirche
URL:https://www.muelheimmosel.de/veranstaltung/evangelischer-gottesdienst-74/
LOCATION:Ev. Kirchraum der Simultankirche in Brauneberg
ATTACH;FMTTYPE=image/jpeg:https://www.muelheimmosel.de/wp-content/uploads/kirche.jpg
END:VEVENT
BEGIN:VEVENT
DTSTART;TZID=Europe/Berlin:20260406T093000
DTEND;TZID=Europe/Berlin:20260406T093000
DTSTAMP:20260422T064940
CREATED:20260311T095513Z
LAST-MODIFIED:20260311T095513Z
UID:10000173-1775467800-1775467800@www.muelheimmosel.de
SUMMARY:Ostermontag
DESCRIPTION:09:30 Uhr Festgottesdienst mit Hl. Abendmahl in der Ev. Kirche in Burgen  \n10:00 Uhr Festgottesdienst mit Hl. Abendmahl in der Ev. Kirche in Gornhausen
URL:https://www.muelheimmosel.de/veranstaltung/ostermontag/
LOCATION:Evangelische Kirche Burgen
ATTACH;FMTTYPE=image/jpeg:https://www.muelheimmosel.de/wp-content/uploads/kirche.jpg
END:VEVENT
BEGIN:VEVENT
DTSTART;TZID=Europe/Berlin:20260405T100000
DTEND;TZID=Europe/Berlin:20260405T100000
DTSTAMP:20260422T064940
CREATED:20260311T095154Z
LAST-MODIFIED:20260311T095154Z
UID:10000172-1775383200-1775383200@www.muelheimmosel.de
SUMMARY:Ostersonntag
DESCRIPTION:10:00 Uhr Festgottesdienst mit Hl. Abendmahl in der Ev. Kirche in Mülheim anschl. Osterfeuer \n10:00 Uhr Oster-Kindergottesdienst\, Beginn in der Kirche\, Fortsetzung im Gemeindesaal & Ostereiersuchen im Pfarrgarten Anmeldung für den KiGo bis 02.04.
URL:https://www.muelheimmosel.de/veranstaltung/ostersonntag/
LOCATION:Evangelische Kirche Mülheim
ATTACH;FMTTYPE=image/jpeg:https://www.muelheimmosel.de/wp-content/uploads/kirche.jpg
END:VEVENT
BEGIN:VEVENT
DTSTART;TZID=Europe/Berlin:20260404T210000
DTEND;TZID=Europe/Berlin:20260404T210000
DTSTAMP:20260422T064940
CREATED:20260311T094420Z
LAST-MODIFIED:20260311T094420Z
UID:10000171-1775336400-1775336400@www.muelheimmosel.de
SUMMARY:Osternacht
DESCRIPTION:21:00 Uhr Osternachtgottesdienst in der Ev. Kirche in Veldenz anschl. Osterfeuer
URL:https://www.muelheimmosel.de/veranstaltung/osternacht/
LOCATION:Evangelische Kirche Veldenz
ATTACH;FMTTYPE=image/jpeg:https://www.muelheimmosel.de/wp-content/uploads/kirche.jpg
END:VEVENT
BEGIN:VEVENT
DTSTART;TZID=Europe/Berlin:20260403T103000
DTEND;TZID=Europe/Berlin:20260403T103000
DTSTAMP:20260422T064940
CREATED:20260311T095940Z
LAST-MODIFIED:20260311T095940Z
UID:10000170-1775212200-1775212200@www.muelheimmosel.de
SUMMARY:Karfreitag
DESCRIPTION:10:30 Uhr Gottesdienst mit Hl. Abendmahl in der Ev. Kirche in Mülheim \n14:00 Uhr Gottesdienst mit Hl. Abendmahl in der Ev. Kirche in Andel
URL:https://www.muelheimmosel.de/veranstaltung/karfreitag/
LOCATION:Evangelische Kirche Mülheim
ATTACH;FMTTYPE=image/jpeg:https://www.muelheimmosel.de/wp-content/uploads/kirche.jpg
END:VEVENT
BEGIN:VEVENT
DTSTART;TZID=Europe/Berlin:20260402T190000
DTEND;TZID=Europe/Berlin:20260402T190000
DTSTAMP:20260422T064940
CREATED:20260311T093459Z
LAST-MODIFIED:20260311T093459Z
UID:10000169-1775156400-1775156400@www.muelheimmosel.de
SUMMARY:Gründonnerstag
DESCRIPTION:19:00 Uhr Gottesdienst mit Hl. Abendmahl in Brauneberg im Ev. Kirchraum der Simultankirche
URL:https://www.muelheimmosel.de/veranstaltung/gruendonnerstag/
LOCATION:Ev. Kirchraum der Simultankirche in Brauneberg
ATTACH;FMTTYPE=image/jpeg:https://www.muelheimmosel.de/wp-content/uploads/kirche.jpg
END:VEVENT
BEGIN:VEVENT
DTSTART;TZID=Europe/Berlin:20260329T100000
DTEND;TZID=Europe/Berlin:20260329T100000
DTSTAMP:20260422T064940
CREATED:20260311T093031Z
LAST-MODIFIED:20260311T093031Z
UID:10000168-1774778400-1774778400@www.muelheimmosel.de
SUMMARY:Evangelischer Gottesdienst
DESCRIPTION:10:00 Uhr Gottesdienst in der Ev. Kirche Mülheim zur Konfirmation mit Hl. Abendmahl
URL:https://www.muelheimmosel.de/veranstaltung/evangelischer-gottesdienst-73/
LOCATION:Evangelische Kirche Mülheim
ATTACH;FMTTYPE=image/jpeg:https://www.muelheimmosel.de/wp-content/uploads/kirche.jpg
END:VEVENT
BEGIN:VEVENT
DTSTART;TZID=Europe/Berlin:20260322T100000
DTEND;TZID=Europe/Berlin:20260322T100000
DTSTAMP:20260422T064940
CREATED:20260311T092855Z
LAST-MODIFIED:20260311T092855Z
UID:10000167-1774173600-1774173600@www.muelheimmosel.de
SUMMARY:Evangelischer Gottesdienst
DESCRIPTION:10:00 Uhr Gottesdienst in der Ev. Kirche Mülheim mit Vorstellung der Konfirmanden
URL:https://www.muelheimmosel.de/veranstaltung/evangelischer-gottesdienst-72/
LOCATION:Evangelische Kirche Mülheim
ATTACH;FMTTYPE=image/jpeg:https://www.muelheimmosel.de/wp-content/uploads/kirche.jpg
END:VEVENT
BEGIN:VEVENT
DTSTART;VALUE=DATE:20260321
DTEND;VALUE=DATE:20260322
DTSTAMP:20260422T064940
CREATED:20260127T075625Z
LAST-MODIFIED:20260127T075625Z
UID:10000146-1774051200-1774137599@www.muelheimmosel.de
SUMMARY:20. Internationaler Zeppelinlauf
DESCRIPTION:
URL:https://www.muelheimmosel.de/veranstaltung/20-internationaler-zeppelinlauf/
ATTACH;FMTTYPE=image/jpeg:https://www.muelheimmosel.de/wp-content/uploads/Zeppelinlauf-scaled.jpg
END:VEVENT
BEGIN:VEVENT
DTSTART;TZID=Europe/Berlin:20260315T100000
DTEND;TZID=Europe/Berlin:20260315T100000
DTSTAMP:20260422T064940
CREATED:20260311T092629Z
LAST-MODIFIED:20260311T092629Z
UID:10000166-1773568800-1773568800@www.muelheimmosel.de
SUMMARY:Evangelischer Gottesdienst
DESCRIPTION:10:00 Uhr Gottesdienst in Mülheim im Gemeindesaal\, Hauptstr. 10 anschl. Kaffee\, Tee & Kuchen im Gemeindessaal\,  Kindergottesdienst mit Kinderfrühstück Anmeldung für den KiGo bis 12.03.
URL:https://www.muelheimmosel.de/veranstaltung/evangelischer-gottesdienst-71/
LOCATION:Gemeindesaal Mülheim\, Hauptstr. 10\, Mülheim an der Mosel\, 54486\, Deutschland
ATTACH;FMTTYPE=image/jpeg:https://www.muelheimmosel.de/wp-content/uploads/kirche.jpg
END:VEVENT
BEGIN:VEVENT
DTSTART;TZID=Europe/Berlin:20260314T193000
DTEND;TZID=Europe/Berlin:20260314T193000
DTSTAMP:20260422T064940
CREATED:20260128T075758Z
LAST-MODIFIED:20260128T080313Z
UID:10000149-1773516600-1773516600@www.muelheimmosel.de
SUMMARY:Kulturkreis Mülheim präsentiert...
DESCRIPTION:Mirja Klippel „slow coming alive“ \nDie Künstlerin Mirja Klippel\, ist in Finnland geboren. Heute lebt sie in Dänemark. Mirja Klippel hat der alternativen Folkszene ihren ganz besonderen Stempel aufgedrückt\, indem sie die raue Schönheit der nordischen Landschaft mit einem Faden der Sehnsucht in ihre Musik webt. Ihre Musik ist von finnischem Folk\, Americana\, sphärischem Dream-Pop und Indie auf eine Weise inspiriert\, die sowohl schön als auch im romantischsten Sinne tragisch ist. Klippels Debüt „Lift your Lion“ (2016) präsentierte der Welt ihr Talent als Songwriterin\, Sängerin\, Multiinstrumentalistin und Produzentin\, während ihr zweites Album „Slow Coming Alive“ (2021) einen eher introspektiven Ansatz verfolgte\, indem sie sich mit den finnischen Gedichten ihrer Jugend auseinandersetzte und universelle Themen der sozialen Gerechtigkeit zu den Klängen intimer Kammermusik ansprach. Dafür erhielt sie drei Nominierungen für die Danish Music Awards Roots. Mirja Klippel wird von ihrem langjährigen musikalischen Weggefährten\, dem Gitarristen Alex Jønsson\, begleitet. Besetzung: Mirja Klippel: Gesang\, Gitarre & Waldzither Alex Jønsson: Gitarre\, Backing Vocals Pressestimmen: „Starker\, tiefer und ehrlicher Folk/Americana“ GAFFA (DÄNEMARK) ★★★★★ “ … ein Folk-Diamant für Filigran-Pop-Audiophile“ – Glitterhouse (DEUTSCHLAND) „Mirja Klippel hat ein besonderes Talent\, Songs zu schreiben\, die wie ein Stück ihrer Seele klingen.“ – To Go Berlin (DEUTSCHLAND) „Ich habe versucht\, einen Weg zu finden\, sie mit einer anderen Künstlerin zu vergleichen\, aber es ist mir einfach nicht gelungen. Es gab nur Mirja Klippel.“ – Postimees (ESTLAND) \nEintritt: € 15\,00 \n\n4
URL:https://www.muelheimmosel.de/veranstaltung/kulturkreis-muelheim-praesentiert-9/
LOCATION:Grafschafter Festhalle
ATTACH;FMTTYPE=image/png:https://www.muelheimmosel.de/wp-content/uploads/Mirja-Alex.png
END:VEVENT
BEGIN:VEVENT
DTSTART;TZID=Europe/Berlin:20260308T103000
DTEND;TZID=Europe/Berlin:20260308T103000
DTSTAMP:20260422T064940
CREATED:20260128T105048Z
LAST-MODIFIED:20260128T105215Z
UID:10000164-1772965800-1772965800@www.muelheimmosel.de
SUMMARY:Evangelischer Gottesdienst
DESCRIPTION:10:30 Uhr Gottesdienst für  jung & alt in der Ev. Kirche in Mülheim Thema: „Aufs Kreuz gelegt“ anschl. Kaffee\, Tee & Kuchen im Gemeindessaal          Kindergottesdienst mit Kinderfrühstück Anmeldung für den KiGo bis 05.03.
URL:https://www.muelheimmosel.de/veranstaltung/evangelischer-gottesdienst-70/
LOCATION:Evangelische Kirche Mülheim
ATTACH;FMTTYPE=image/jpeg:https://www.muelheimmosel.de/wp-content/uploads/kirche.jpg
END:VEVENT
BEGIN:VEVENT
DTSTART;TZID=Europe/Berlin:20260301T100000
DTEND;TZID=Europe/Berlin:20260301T100000
DTSTAMP:20260422T064940
CREATED:20260128T104315Z
LAST-MODIFIED:20260128T104327Z
UID:10000163-1772359200-1772359200@www.muelheimmosel.de
SUMMARY:Evangelischer Gottesdienst
DESCRIPTION:10:00 Uhr Gottesdienst im Gemeindesaal Mülheim\, Hauptstr. 10Kindergottesdienst im Gemeindesaal Anmeldung für den KiGo bis 26.02.
URL:https://www.muelheimmosel.de/veranstaltung/evangelischer-gottesdienst-69/
LOCATION:Gemeindesaal Mülheim\, Hauptstr. 10\, Mülheim an der Mosel\, 54486\, Deutschland
ATTACH;FMTTYPE=image/jpeg:https://www.muelheimmosel.de/wp-content/uploads/kirche.jpg
END:VEVENT
BEGIN:VEVENT
DTSTART;TZID=Europe/Berlin:20260222T170000
DTEND;TZID=Europe/Berlin:20260222T170000
DTSTAMP:20260422T064940
CREATED:20260128T075200Z
LAST-MODIFIED:20260213T080623Z
UID:10000148-1771779600-1771779600@www.muelheimmosel.de
SUMMARY:Kulturkreis Mülheim präsentiert...
DESCRIPTION:Lucy van Kuhl „Auf den 2. Blick“ \nVerliebt auf den zweiten Blick. Begeistert auf den zweiten Blick. Mitfühlend auf den zweiten Blick. Enttäuscht auf den zweiten Blick. Viele Menschen\, Momente und Emotionen nehmen wir beim ersten Mal nicht richtig wahr. Lucy van Kuhl besingt und kommentiert in ihrem neuen Programm „Auf den zweiten Blick“ empathisch die Liebe\, das Alter\, Menschen\, die in unserer Gesellschaft kaum wahrgenommen werden\, Menschen\, die (leider) viel zu sehr wahrgenommen werden\, Situationen\, die man sich eingebrockt hat und aus denen man schlecht wieder rauskommt. Und sie stellt sich die Frage „Wann hab ich zum letzten Mal was zum ersten Mal gemacht?“\, denn es lohnt sich auch ein zweiter\, dritter\, sechster Blick auf unsere Lebensroutine. Der erste Blick ist der intuitive\, der zweite Blick kann der besondere sein. Lucy van Kuhl erreicht ihr Publikum durch ihre natürlich-authentische Art. Man findet sich in ihren Liedern wieder\, in den kleinen Tücken des Alltags\, die sie ironisch besingt\, aber auch in ihren ehrlichen ruhigen Chansons. „Lucy van Kuhls Art zu musizieren und zu singen begeistert mich\, ihre Worte sind poetisch und ironisch. Sie schafft ausdrucksstarke Bilder und setzt sie musikalisch ganz zauberhaft um.“ (Konstantin Wecker) \nEintritt: € 20\,00
URL:https://www.muelheimmosel.de/veranstaltung/kulturkreis-muelheim-praesentiert-8/
LOCATION:Grafschafter Festhalle
ATTACH;FMTTYPE=image/jpeg:https://www.muelheimmosel.de/wp-content/uploads/Lucy.jpg
END:VEVENT
BEGIN:VEVENT
DTSTART;TZID=Europe/Berlin:20260222T103000
DTEND;TZID=Europe/Berlin:20260222T103000
DTSTAMP:20260422T064940
CREATED:20260128T104130Z
LAST-MODIFIED:20260128T104433Z
UID:10000161-1771756200-1771756200@www.muelheimmosel.de
SUMMARY:Evangelischer Gottesdienst
DESCRIPTION:10:30 Uhr Gottesdienst im Gemeindesaal Mülheim\, Hauptstr. 10                   Kindergottesdienst im Gemeindesaal Anmeldung für den KiGo bis 19.02.
URL:https://www.muelheimmosel.de/veranstaltung/evangelischer-gottesdienst-68/
LOCATION:Gemeindesaal Mülheim\, Hauptstr. 10\, Mülheim an der Mosel\, 54486\, Deutschland
ATTACH;FMTTYPE=image/jpeg:https://www.muelheimmosel.de/wp-content/uploads/kirche.jpg
END:VEVENT
BEGIN:VEVENT
DTSTART;TZID=Europe/Berlin:20260215T100000
DTEND;TZID=Europe/Berlin:20260215T100000
DTSTAMP:20260422T064940
CREATED:20260128T103903Z
LAST-MODIFIED:20260128T103903Z
UID:10000160-1771149600-1771149600@www.muelheimmosel.de
SUMMARY:Evangelischer Gottesdienst
DESCRIPTION:10:00 Uhr Gottesdienst im Ev. Kirchraum der Simultankirche in Brauneberg
URL:https://www.muelheimmosel.de/veranstaltung/evangelischer-gottesdienst-67/
LOCATION:Ev. Kirchraum der Simultankirche in Brauneberg
ATTACH;FMTTYPE=image/jpeg:https://www.muelheimmosel.de/wp-content/uploads/kirche.jpg
END:VEVENT
BEGIN:VEVENT
DTSTART;TZID=Europe/Berlin:20260212T131100
DTEND;TZID=Europe/Berlin:20260212T131100
DTSTAMP:20260422T064940
CREATED:20260127T113206Z
LAST-MODIFIED:20260127T113206Z
UID:10000147-1770901860-1770901860@www.muelheimmosel.de
SUMMARY:Weiberfastnacht
DESCRIPTION:Auch in Mülheim wird’s bunt \nWo?: Sporthäuschen am SportplatzSuppe & Würstchen\, Kaffee & Kuchen \, Getränke aller Art
URL:https://www.muelheimmosel.de/veranstaltung/weiberfastnacht/
LOCATION:Sportplatz
ATTACH;FMTTYPE=application/pdf:https://www.muelheimmosel.de/wp-content/uploads/Fastnacht-2026-1.pdf
END:VEVENT
BEGIN:VEVENT
DTSTART;TZID=Europe/Berlin:20260208T103000
DTEND;TZID=Europe/Berlin:20260208T103000
DTSTAMP:20260422T064940
CREATED:20260128T103653Z
LAST-MODIFIED:20260128T103653Z
UID:10000159-1770546600-1770546600@www.muelheimmosel.de
SUMMARY:Evangelischer Gottesdienst
DESCRIPTION:10:30 Uhr Gottesdienst für  jung & alt in der Ev. Kirche in Mülheim                    Thema: Jahreslosung „Siehe\, ich mache alles neu!“ anschl. Kaffee\, Tee & Kuchen im                    Gemeindesaal                    Kindergottesdienst mit Kinderfrühstück Anmeldung für den KiGo bis 05.02.
URL:https://www.muelheimmosel.de/veranstaltung/evangelischer-gottesdienst-66/
LOCATION:Evangelische Kirche Mülheim
ATTACH;FMTTYPE=image/jpeg:https://www.muelheimmosel.de/wp-content/uploads/kirche.jpg
END:VEVENT
BEGIN:VEVENT
DTSTART;TZID=Europe/Berlin:20260201T100000
DTEND;TZID=Europe/Berlin:20260201T100000
DTSTAMP:20260422T064940
CREATED:20260128T102933Z
LAST-MODIFIED:20260128T102933Z
UID:10000158-1769940000-1769940000@www.muelheimmosel.de
SUMMARY:Evangelischer Gottesdienst
DESCRIPTION:10:00 Uhr Gottesdienst  im Gemeindesaal in Mülheim\, Hauptstr. 10                    Kindergottesdienst im Gemeindesaal\,  Anmeldung für den KiGo bis 29.01.
URL:https://www.muelheimmosel.de/veranstaltung/evangelischer-gottesdienst-65/
LOCATION:Gemeindesaal Mülheim\, Hauptstr. 10\, Mülheim an der Mosel\, 54486\, Deutschland
ATTACH;FMTTYPE=image/jpeg:https://www.muelheimmosel.de/wp-content/uploads/kirche.jpg
END:VEVENT
BEGIN:VEVENT
DTSTART;VALUE=DATE:20260119
DTEND;VALUE=DATE:20260120
DTSTAMP:20260422T064940
CREATED:20251217T092649Z
LAST-MODIFIED:20251217T092649Z
UID:10000140-1768780800-1768867199@www.muelheimmosel.de
SUMMARY:Einsammlung Alttextilien
DESCRIPTION:Einsammlung der Alttextilien in Mülheim : 19.01.2026
URL:https://www.muelheimmosel.de/veranstaltung/einsammlung-alttextilien/
ATTACH;FMTTYPE=image/jpeg:https://www.muelheimmosel.de/wp-content/uploads/himmlischeaussichten.jpg
END:VEVENT
BEGIN:VEVENT
DTSTART;TZID=Europe/Berlin:20251231T180000
DTEND;TZID=Europe/Berlin:20251231T180000
DTSTAMP:20260422T064940
CREATED:20251203T074912Z
LAST-MODIFIED:20251203T074912Z
UID:10000139-1767204000-1767204000@www.muelheimmosel.de
SUMMARY:Silvester
DESCRIPTION:18:00 Uhr Jahresschlussgottesdienst bei Kerzenschein in der Ev. Kirche Mülheim
URL:https://www.muelheimmosel.de/veranstaltung/silvester/
LOCATION:Evangelische Kirche Mülheim
ATTACH;FMTTYPE=image/jpeg:https://www.muelheimmosel.de/wp-content/uploads/Feuerwerk.jpg
END:VEVENT
BEGIN:VEVENT
DTSTART;TZID=Europe/Berlin:20251228T103000
DTEND;TZID=Europe/Berlin:20251228T103000
DTSTAMP:20260422T064940
CREATED:20251203T074458Z
LAST-MODIFIED:20251203T074458Z
UID:10000138-1766917800-1766917800@www.muelheimmosel.de
SUMMARY:Sonntag nach Weihnachten
DESCRIPTION:10:30 Uhr Festgottesdienst in der Ev. Kirche Andel mit Abendmahl
URL:https://www.muelheimmosel.de/veranstaltung/sonntag-nach-weihnachten/
LOCATION:Evangelische Kirche Andel
ATTACH;FMTTYPE=image/jpeg:https://www.muelheimmosel.de/wp-content/uploads/kirche.jpg
END:VEVENT
BEGIN:VEVENT
DTSTART;TZID=Europe/Berlin:20251226T100000
DTEND;TZID=Europe/Berlin:20251226T100000
DTSTAMP:20260422T064941
CREATED:20251203T074320Z
LAST-MODIFIED:20251203T074320Z
UID:10000137-1766743200-1766743200@www.muelheimmosel.de
SUMMARY:2. Weihnachtstag
DESCRIPTION:10:00 Uhr Festgottesdienst in der Simultankirche Braunberg mit Abendmahl
URL:https://www.muelheimmosel.de/veranstaltung/2-weihnachtstag/
LOCATION:Ev. Kirchraum der Simultankirche in Brauneberg
ATTACH;FMTTYPE=image/jpeg:https://www.muelheimmosel.de/wp-content/uploads/kirche.jpg
END:VEVENT
BEGIN:VEVENT
DTSTART;TZID=Europe/Berlin:20251225T100000
DTEND;TZID=Europe/Berlin:20251225T100000
DTSTAMP:20260422T064941
CREATED:20251203T074140Z
LAST-MODIFIED:20251203T074140Z
UID:10000136-1766656800-1766656800@www.muelheimmosel.de
SUMMARY:1. Weihnachtstag
DESCRIPTION:10:00 Uhr Festgottesdienst bei Kerzenschein in der Ev. Kirche Mülheim mit Abendmahl
URL:https://www.muelheimmosel.de/veranstaltung/1-weihnachtstag/
LOCATION:Evangelische Kirche Mülheim
ATTACH;FMTTYPE=image/jpeg:https://www.muelheimmosel.de/wp-content/uploads/kirche.jpg
END:VEVENT
BEGIN:VEVENT
DTSTART;TZID=Europe/Berlin:20251224T171500
DTEND;TZID=Europe/Berlin:20251224T171500
DTSTAMP:20260422T064941
CREATED:20251203T073848Z
LAST-MODIFIED:20251203T073848Z
UID:10000135-1766596500-1766596500@www.muelheimmosel.de
SUMMARY:Heiligabend
DESCRIPTION:15:00 Uhr Weihnachts- und Kindermusical in der Simultankirche in Brauneberg \n16:00 Uhr Heiligabendgottesdienst in de Ev. Kirch Andel \n17:15 Uhr Heiligabendgottesdienst bei Kerzenschein in der Ev. Kirche Mülheim \n 
URL:https://www.muelheimmosel.de/veranstaltung/heiligabend-2/
LOCATION:Evangelische Kirche Mülheim
ATTACH;FMTTYPE=image/jpeg:https://www.muelheimmosel.de/wp-content/uploads/xmas.jpg
END:VEVENT
BEGIN:VEVENT
DTSTART;TZID=Europe/Berlin:20251221T100000
DTEND;TZID=Europe/Berlin:20251221T100000
DTSTAMP:20260422T064941
CREATED:20251203T073314Z
LAST-MODIFIED:20251203T073314Z
UID:10000134-1766311200-1766311200@www.muelheimmosel.de
SUMMARY:Evangelischer Gottesdienst (4. Advent)
DESCRIPTION:10:00 Uhr Musikalischer Gottesdienst in Ev. Kirchraum der Simultankirche Brauneberg.                   Die Gitarrenschüler von Barbara Hofer spielen Advents – und Weihnachtslieder
URL:https://www.muelheimmosel.de/veranstaltung/evangelischer-gottesdienst-4-advent-2/
LOCATION:Ev. Kirchraum der Simultankirche in Brauneberg
ATTACH;FMTTYPE=image/jpeg:https://www.muelheimmosel.de/wp-content/uploads/kirche.jpg
END:VEVENT
BEGIN:VEVENT
DTSTART;TZID=Europe/Berlin:20251214T103000
DTEND;TZID=Europe/Berlin:20251214T103000
DTSTAMP:20260422T064941
CREATED:20251203T073001Z
LAST-MODIFIED:20251203T073338Z
UID:10000133-1765708200-1765708200@www.muelheimmosel.de
SUMMARY:Evangelischer Gottesdienst (3. Advent)
DESCRIPTION:10:00 Uhr Gottesdienst in der Ev. Kirche Mülheim                     anschl. Kaffee & Kuchen
URL:https://www.muelheimmosel.de/veranstaltung/evangelischer-gottesdienst-3-advent-2/
LOCATION:Evangelische Kirche Mülheim
ATTACH;FMTTYPE=image/jpeg:https://www.muelheimmosel.de/wp-content/uploads/kirche.jpg
END:VEVENT
BEGIN:VEVENT
DTSTART;TZID=Europe/Berlin:20251213T170000
DTEND;TZID=Europe/Berlin:20251213T170000
DTSTAMP:20260422T064941
CREATED:20251203T072628Z
LAST-MODIFIED:20251209T112236Z
UID:10000132-1765645200-1765645200@www.muelheimmosel.de
SUMMARY:Christmas Ballads & Gospel
DESCRIPTION:
URL:https://www.muelheimmosel.de/veranstaltung/christmas-ballads-gospel/
LOCATION:Evangelische Kirche Mülheim
ATTACH;FMTTYPE=image/jpeg:https://www.muelheimmosel.de/wp-content/uploads/Steven-Pitman_000340-scaled.jpg
END:VEVENT
BEGIN:VEVENT
DTSTART;TZID=Europe/Berlin:20251211T114500
DTEND;TZID=Europe/Berlin:20251211T134500
DTSTAMP:20260422T064941
CREATED:20250113T085523Z
LAST-MODIFIED:20250113T085523Z
UID:10000084-1765453500-1765460700@www.muelheimmosel.de
SUMMARY:Generationenessen
DESCRIPTION:Menü: Schnitzeltopf \, Kartoffelspätzle und Gemüse \nAb 60 Jahren ist jeder herzlich Willkommen. \nWer kein Stammgast ist\, bitte bei Siggi Falke unter der Telefonnummer 06534-18232 anmelden!Zu jedem Essen gibt es einen Nachtisch & Kaffee. \nKostenbeitrag € 7\,50 \n  \n 
URL:https://www.muelheimmosel.de/veranstaltung/generationenessen-11/
LOCATION:Kleine Festhalle
ATTACH;FMTTYPE=image/jpeg:https://www.muelheimmosel.de/wp-content/uploads/Kaffeegedeck-Logo.jpg
END:VEVENT
BEGIN:VEVENT
DTSTART;TZID=Europe/Berlin:20251207T100000
DTEND;TZID=Europe/Berlin:20251207T100000
DTSTAMP:20260422T064941
CREATED:20251203T071805Z
LAST-MODIFIED:20251203T072604Z
UID:10000131-1765101600-1765101600@www.muelheimmosel.de
SUMMARY:Evangelischer Gottesdienst (2. Advent)
DESCRIPTION:10:00 Uhr Gottesdienst in der Ev. Kirche Mülheim \n16:00 Uhr Familien-Adventsfeier im Andeler Dom anschl. Adventsfenster des Dorfvereins
URL:https://www.muelheimmosel.de/veranstaltung/evangelischer-gottesdienst-2-advent-2/
LOCATION:Evangelische Kirche Mülheim
ATTACH;FMTTYPE=image/jpeg:https://www.muelheimmosel.de/wp-content/uploads/kirche.jpg
END:VEVENT
END:VCALENDAR