BEGIN:VCALENDAR
VERSION:2.0
PRODID:-//Mülheim an der Mosel - ECPv6.15.11//NONSGML v1.0//EN
CALSCALE:GREGORIAN
METHOD:PUBLISH
X-WR-CALNAME:Mülheim an der Mosel
X-ORIGINAL-URL:https://www.muelheimmosel.de
X-WR-CALDESC:Veranstaltungen für Mülheim an der Mosel
REFRESH-INTERVAL;VALUE=DURATION:PT1H
X-Robots-Tag:noindex
X-PUBLISHED-TTL:PT1H
BEGIN:VTIMEZONE
TZID:Europe/Berlin
BEGIN:DAYLIGHT
TZOFFSETFROM:+0100
TZOFFSETTO:+0200
TZNAME:CEST
DTSTART:20250330T010000
END:DAYLIGHT
BEGIN:STANDARD
TZOFFSETFROM:+0200
TZOFFSETTO:+0100
TZNAME:CET
DTSTART:20251026T010000
END:STANDARD
BEGIN:DAYLIGHT
TZOFFSETFROM:+0100
TZOFFSETTO:+0200
TZNAME:CEST
DTSTART:20260329T010000
END:DAYLIGHT
BEGIN:STANDARD
TZOFFSETFROM:+0200
TZOFFSETTO:+0100
TZNAME:CET
DTSTART:20261025T010000
END:STANDARD
BEGIN:DAYLIGHT
TZOFFSETFROM:+0100
TZOFFSETTO:+0200
TZNAME:CEST
DTSTART:20270328T010000
END:DAYLIGHT
BEGIN:STANDARD
TZOFFSETFROM:+0200
TZOFFSETTO:+0100
TZNAME:CET
DTSTART:20271031T010000
END:STANDARD
END:VTIMEZONE
BEGIN:VEVENT
DTSTART;TZID=Europe/Berlin:20261212T170000
DTEND;TZID=Europe/Berlin:20261212T170000
DTSTAMP:20260423T010848
CREATED:20260128T085437Z
LAST-MODIFIED:20260128T085437Z
UID:10000157-1797094800-1797094800@www.muelheimmosel.de
SUMMARY:Kulturkreis Mülheim präsentiert...
DESCRIPTION:Akleja \nDas Duo Akleja erforscht musikalisch\, was ihnen am Herzen liegt – Natur\, Begegnungen und berührende Augenblicke. Akleja spielt instrumentale Folkmusik auf Nyckelharpa\, Gitarre und Cittern. Besonders geprägt sind sie von Tanzmusik\, die in alten Notenbüchern schlummert und zu neuem Leben erweckt werden möchte\, sowie der Musiktradition Schwedens\, dem Heimatland der Nyckelharpa. Mit ihrer Musik gehen sie eigene Wege und erschaffen eine einzigartige Klangwelt voller Lebensfreude und Atmosphäre. Mit ihrem mitreißendes Spiel und ihren feinen Arrangements zeichnen sie klingende Bilder und entreißen ihr Publikum mühelos dem Alltag. – Mit Harfe\, französischen Dudelsäcken und ihrer Stimme lässt Daniela Heiderich facettenreiche Klangwelten entstehen. Mal mitreißend-rhythmisch\, mal einfühlsam-träumerisch\, wechseln sich Lieder\, Tänze\, alte und neue Melodien ab. Ihre Eigenkompositionen lassen durchaus auch sehr moderne Töne anklingen. Die Musikerin geht eigene Wege\, gerne auch mal fernab von dem\, was man heute typischerweise von Harfe und Dudelsack zu hören gewohnt ist. – Bitte beachten: – Kostenbeitrag wird vor Ort bezahlt – Zur Stärkung gibt es ein Mitbring Buffet – bitte etwas leckeres mitbringen – Für den nicht obligatorischen Tanzworkshop sind 5 € zusätzlich zu bezahlen – Der Tanzworkshop beginnt um 17:00 Uhr und dauert ca. 1\,5 Stunden – Der Bal Folk beginnt um 19:00 Uhr \nEintritt: € 15\,00
URL:https://www.muelheimmosel.de/veranstaltung/kulturkreis-muelheim-praesentiert-16/
LOCATION:Grafschafter Festhalle
ATTACH;FMTTYPE=image/jpeg:https://www.muelheimmosel.de/wp-content/uploads/akleja.jpeg
END:VEVENT
END:VCALENDAR