BEGIN:VCALENDAR
VERSION:2.0
PRODID:-//Mülheim an der Mosel - ECPv6.15.11//NONSGML v1.0//EN
CALSCALE:GREGORIAN
METHOD:PUBLISH
X-ORIGINAL-URL:https://www.muelheimmosel.de
X-WR-CALDESC:Veranstaltungen für Mülheim an der Mosel
REFRESH-INTERVAL;VALUE=DURATION:PT1H
X-Robots-Tag:noindex
X-PUBLISHED-TTL:PT1H
BEGIN:VTIMEZONE
TZID:Europe/Berlin
BEGIN:DAYLIGHT
TZOFFSETFROM:+0100
TZOFFSETTO:+0200
TZNAME:CEST
DTSTART:20250330T010000
END:DAYLIGHT
BEGIN:STANDARD
TZOFFSETFROM:+0200
TZOFFSETTO:+0100
TZNAME:CET
DTSTART:20251026T010000
END:STANDARD
BEGIN:DAYLIGHT
TZOFFSETFROM:+0100
TZOFFSETTO:+0200
TZNAME:CEST
DTSTART:20260329T010000
END:DAYLIGHT
BEGIN:STANDARD
TZOFFSETFROM:+0200
TZOFFSETTO:+0100
TZNAME:CET
DTSTART:20261025T010000
END:STANDARD
BEGIN:DAYLIGHT
TZOFFSETFROM:+0100
TZOFFSETTO:+0200
TZNAME:CEST
DTSTART:20270328T010000
END:DAYLIGHT
BEGIN:STANDARD
TZOFFSETFROM:+0200
TZOFFSETTO:+0100
TZNAME:CET
DTSTART:20271031T010000
END:STANDARD
END:VTIMEZONE
BEGIN:VEVENT
DTSTART;TZID=Europe/Berlin:20260530T170000
DTEND;TZID=Europe/Berlin:20260530T170000
DTSTAMP:20260422T094833
CREATED:20260128T081713Z
LAST-MODIFIED:20260128T081713Z
UID:10000151-1780160400-1780160400@www.muelheimmosel.de
SUMMARY:Kulturkreis Mülheim präsentiert...
DESCRIPTION:Accords Perdus Bal Folk & Tanzworkshop\n \nAccords Perdus ist seit jeher in der Volksmusik- und Tanzszene aktiv und bietet ein Repertoire an speziell zum Tanz komponierten Liedern sowie kleine Schätze aus aller Welt. Klavier\, Gesang und Klarinette (manchmal auch Bass) verschmelzen harmonisch zu einem mitreißenden und energiegeladenen Tanzerlebnis. Lust auf Tanzen? Dann stürzen Sie sich ins Getümmel! …Kopfüber! – Bitte beachten: – Kostenbeitrag wird vor Ort bezahlt – Zur Stärkung gibt es ein Mitbring Buffet – bitte etwas leckeres mitbringen – Für den nicht obligatorischen Tanzworkshop sind 5 € zusätzlich zu bezahlen – Der Tanzworkshop beginnt um 17:00 Uhr und dauert ca. 1\,5 Stunden – Der Bal Folk beginnt um 19:00 Uhr\n \nEintritt: € 15\,00\n 
URL:https://www.muelheimmosel.de/veranstaltung/kulturkreis-muelheim-praesentiert-11/
LOCATION:Grafschafter Festhalle
ATTACH;FMTTYPE=image/jpeg:https://www.muelheimmosel.de/wp-content/uploads/Accordperdus.jpg
END:VEVENT
END:VCALENDAR