BEGIN:VCALENDAR
VERSION:2.0
PRODID:-//Mülheim an der Mosel - ECPv6.15.11//NONSGML v1.0//EN
CALSCALE:GREGORIAN
METHOD:PUBLISH
X-WR-CALNAME:Mülheim an der Mosel
X-ORIGINAL-URL:https://www.muelheimmosel.de
X-WR-CALDESC:Veranstaltungen für Mülheim an der Mosel
REFRESH-INTERVAL;VALUE=DURATION:PT1H
X-Robots-Tag:noindex
X-PUBLISHED-TTL:PT1H
BEGIN:VTIMEZONE
TZID:Europe/Berlin
BEGIN:DAYLIGHT
TZOFFSETFROM:+0100
TZOFFSETTO:+0200
TZNAME:CEST
DTSTART:20240331T010000
END:DAYLIGHT
BEGIN:STANDARD
TZOFFSETFROM:+0200
TZOFFSETTO:+0100
TZNAME:CET
DTSTART:20241027T010000
END:STANDARD
BEGIN:DAYLIGHT
TZOFFSETFROM:+0100
TZOFFSETTO:+0200
TZNAME:CEST
DTSTART:20250330T010000
END:DAYLIGHT
BEGIN:STANDARD
TZOFFSETFROM:+0200
TZOFFSETTO:+0100
TZNAME:CET
DTSTART:20251026T010000
END:STANDARD
BEGIN:DAYLIGHT
TZOFFSETFROM:+0100
TZOFFSETTO:+0200
TZNAME:CEST
DTSTART:20260329T010000
END:DAYLIGHT
BEGIN:STANDARD
TZOFFSETFROM:+0200
TZOFFSETTO:+0100
TZNAME:CET
DTSTART:20261025T010000
END:STANDARD
END:VTIMEZONE
BEGIN:VEVENT
DTSTART;VALUE=DATE:20250805
DTEND;VALUE=DATE:20250808
DTSTAMP:20260422T235836
CREATED:20241028T070413Z
LAST-MODIFIED:20250702T063200Z
UID:10000046-1754352000-1754611199@www.muelheimmosel.de
SUMMARY:Mülheimer Markt 2025
DESCRIPTION:H Ö H E P U N K T E  2 0 2 5 \n  \nDIENSTAG\, 5. AUGUST 2025 \n18.30 Uhr      Eröffnung des Mülheimer Marktes mit dem Spielmannszug Mülheim \n                        Große Grafschafter Weinprobe – Moderation: Jana Bottler & Achim Rosch \n  \nMITTWOCH\, 6. AUGUST 2025 \n14.30 Uhr      Großer Festzug danach buntes Treiben auf der Festwiese \n  \nDONNERSTAG\, 7. AUGUST 2025 \n10.00 Uhr      Aufstellung der Winzertraktoren aus dem Ferienland Bernkastel-Kues beim Festzelt \n11.30 Uhr      Traktorparade \n16.30 Uhr      Große ZEPPELIN-Weinverlosung \nAn allen Tagen Bauern- und Krammarkt mit  großem Rummelplatz auf der Festwiese! \n  \nAuf Wiedersehen beim Mülheimer Markt 2026 vom 4. bis 6. August
URL:https://www.muelheimmosel.de/veranstaltung/muelheimer-markt-2025/
LOCATION:Festwiese
ATTACH;FMTTYPE=image/jpeg:https://www.muelheimmosel.de/wp-content/uploads/IMG_6096.jpg
END:VEVENT
END:VCALENDAR